BEGIN:VCALENDAR
VERSION:2.0
PRODID:-//ChamberMaster//Event Calendar 2.0//EN
METHOD:PUBLISH
X-PUBLISHED-TTL:P1H
REFRESH-INTERVAL:P1H
CALSCALE:GREGORIAN
BEGIN:VTIMEZONE
TZID:America/New_York
BEGIN:DAYLIGHT
RRULE:FREQ=YEARLY;BYMONTH=3;BYDAY=2SU
DTSTART:20070101T000000
TZOFFSETFROM:-0500
TZOFFSETTO:-0400
TZNAME:Eastern Daylight Time
END:DAYLIGHT
BEGIN:STANDARD
RRULE:FREQ=YEARLY;BYMONTH=11;BYDAY=1SU
DTSTART:20070101T000000
TZOFFSETFROM:-0400
TZOFFSETTO:-0500
TZNAME:Eastern Standard Time
END:STANDARD
END:VTIMEZONE
BEGIN:VEVENT
DTSTART;TZID=America/New_York:20260516T110000
DTEND;TZID=America/New_York:20260516T150000
X-MICROSOFT-CDO-ALLDAYEVENT:FALSE
SUMMARY:39th Annual Spring Luncheon & Gift Auction
DESCRIPTION:Enjoy a delicious 3 course lunch & fabulous gift auction on May 16\, 2026\, 11:00am-3:00pm at Spring Lake Manor\, 415 NJ-71\, Spring Lake\, NJ. There will also be door prizes & a Jumbo 50/50 raffle. Proceeds benefit CONTACT of Ocean & Monmouth Counties\, the 24/7 Crisis Intervention & Suicide Prevention Helpline. A $75 donation includes lunch and auction tickets valued at $5. Tickets can be purchased online at: https://2026SpringLuncheon.eventbrite.com or mail check to P.O. Box 1121\, Toms River\, NJ 08754. Info\, call CONTACT (732) 240-6104 Must be 18 or older to attend. RL #2026-17
X-ALT-DESC;FMTTYPE=text/html:<!DOCTYPE html><html><head><title></title></head><body aria-disabled="false"><p>Enjoy a delicious 3 course lunch &amp\; fabulous gift auction on May 16\, 2026\, 11:00am-3:00pm at Spring Lake Manor\, 415 NJ-71\, Spring Lake\, NJ. There will also be door prizes &amp\; a Jumbo 50/50 raffle. Proceeds benefit CONTACT of Ocean &amp\; Monmouth Counties\, the 24/7 Crisis Intervention &amp\; Suicide Prevention Helpline. A $75 donation includes lunch and auction tickets valued at $5. Tickets can be purchased online at: https://2026SpringLuncheon.eventbrite.com or mail check to P.O. Box 1121\, Toms River\, NJ 08754. Info\, call CONTACT (732) 240-6104 Must be 18 or older to attend. RL #2026-17</p></body></html>
LOCATION:415 NJ-71 Spring Lake NJ 07762
UID:e.2985.1443369
SEQUENCE:3
DTSTAMP:20260420T071927Z
URL:https://members.tomsriverchamber.com/chamber-events/Details/39th-annual-spring-luncheon-gift-auction-1709612?sourceTypeId=Hub
END:VEVENT
END:VCALENDAR
